BEGIN:VCALENDAR
VERSION:2.0
PRODID:-//jEvents 2.0 for Joomla//EN
CALSCALE:GREGORIAN
METHOD:PUBLISH
BEGIN:VEVENT
UID:d0cc1b4866e4b74ce84f62040a682e00
CATEGORIES:Veranstaltung
CREATED:20260419T211050
SUMMARY:EV. Kirchengemeinde Isenstedt-Frotheim.  Wer hat Lust in einem XXL-Chor mitzusingen
LOCATION:Gemeindehaus Isenstedt Kirchstraße 33a 32339 Espelkamp  
DESCRIPTION:<p>EV. Kirchengemeinde Isenstedt-Frotheim. In diesem Jahr hat die Kirchenge
 meinde Isenstedt-Frotheim in der Vorweihnachtszeit die Möglichkeit an dem C
 hormusical „Betlehem“ am 12.12.26 in der Kampa-Halle in Minden teilzunehmen
 . Wer hat Lust in einem XXL-Chor mitzusingen. Dazu treffen sich alle Intere
 ssierte am Samstag, 25.04.26 in der Zeit von10:30 bis 12:00 Uhr im Gemeinde
 haus Isenstedt Kirchstraße 33a 32339 Espelkamp</p><p class="MsoNoSpacing"><
 a name="_Hlk227525744"></a>Angeregt Blomeyer (Chorleiterin)</p><p class="Ms
 oNoSpacing">angeregt <span id="cloakd3a8a4dc6d90a5c9e3a5caf3234963b7">Diese
  E-Mail-Adresse ist vor Spambots geschützt! Zur Anzeige muss JavaScript ein
 geschaltet sein!</span><script type='text/javascript'>
				document.getElem
 entById('cloakd3a8a4dc6d90a5c9e3a5caf3234963b7').innerHTML = '';
				var pr
 efix = '&#109;a' + 'i&#108;' + '&#116;o';
				var path = 'hr' + 'ef' + '=';
 
				var addyd3a8a4dc6d90a5c9e3a5caf3234963b7 = 'bl&#111;' + '&#64;';
				a
 ddyd3a8a4dc6d90a5c9e3a5caf3234963b7 = addyd3a8a4dc6d90a5c9e3a5caf3234963b7 
 + 'gmx' + '&#46;' + 'd&#101;';
				var addy_textd3a8a4dc6d90a5c9e3a5caf3234
 963b7 = 'bl&#111;' + '&#64;' + 'gmx' + '&#46;' + 'd&#101;';document.getElem
 entById('cloakd3a8a4dc6d90a5c9e3a5caf3234963b7').innerHTML += '<a ' + path 
 + '\'' + prefix + ':' + addyd3a8a4dc6d90a5c9e3a5caf3234963b7 + '\'>'+addy_t
 extd3a8a4dc6d90a5c9e3a5caf3234963b7+'<\/a>';
		</script> oder 0160/94910149
  <span style="mso-spacerun: yes;"> </span></p><p> </p>
CONTACT:Angeregt Blomeyer   (Chorleiterin)  Diese E-Mail-Adresse ist vor Spambots geschützt! Zur Anzeige muss JavaScript eingeschaltet sein!
				document.getElementById('cloak869a046e2e410305e6f72d1278bd170d').innerHTML = '';
				var prefix = '&#109;a' + 'i&#108;' + '&#116;o';
				var path = 'hr' + 'ef' + '=';
				var addy869a046e2e410305e6f72d1278bd170d = '&#97;ng&#101;r&#101;gt.bl&#111;' + '&#64;';
				addy869a046e2e410305e6f72d1278bd170d = addy869a046e2e410305e6f72d1278bd170d + 'gmx' + '&#46;' + 'd&#101;';
				var addy_text869a046e2e410305e6f72d1278bd170d = '&#97;ng&#101;r&#101;gt.bl&#111;' + '&#64;' + 'gmx' + '&#46;' + 'd&#101;';document.getElementById('cloak869a046e2e410305e6f72d1278bd170d').innerHTML += '<a ' + path + '\'' + prefix + ':' + addy869a046e2e410305e6f72d1278bd170d + '\'>'+addy_text869a046e2e410305e6f72d1278bd170d+'';
		 oder 0160/94910149   
DTSTAMP:20260424T102545Z
DTSTART:20260425T083000Z
DTEND:20260425T100000Z
SEQUENCE:0
TRANSP:OPAQUE
END:VEVENT
END:VCALENDAR