BEGIN:VCALENDAR
VERSION:2.0
PRODID:-//jEvents 2.0 for Joomla//EN
CALSCALE:GREGORIAN
METHOD:PUBLISH
BEGIN:VEVENT
UID:29e92e0278cef2778efd7230bcc8f02a
CATEGORIES:Veranstaltung
CREATED:20260308T151214
SUMMARY:Sozialverband Isenstedt Halbtagsausflug mit eigener Anfahrt zum Schloss Benkhausen 
LOCATION:Schloss Benkhausen Schlossallee 1 32339 Espelkamp
DESCRIPTION:Halbtagsausflug mit eigener Anfahrt zum Schloss Benkhausen mit Besichtigung
  des Automatenmuseums und Kaffeetrinken. Beginn 13:30, Kostenbeitrag 16:50€
 \n
X-ALT-DESC;FMTTYPE=text/html:<p>Halbtagsausflug mit eigener Anfahrt zum Schloss Benkhausen mit Besichtig
 ung des Automatenmuseums und Kaffeetrinken. Beginn 13:30, Kostenbeitrag 16:
 50€</p>
DTSTAMP:20260421T114516Z
DTSTART:20260509T113000Z
SEQUENCE:0
TRANSP:OPAQUE
END:VEVENT
END:VCALENDAR