BEGIN:VCALENDAR
VERSION:2.0
PRODID:-//jEvents 2.0 for Joomla//EN
CALSCALE:GREGORIAN
METHOD:PUBLISH
BEGIN:VEVENT
UID:a6891abb9d9ca5fe19008b559680bfb8
CATEGORIES:DEFAULT
CREATED:20251107T205320
SUMMARY:SC Isenstedt bringt Mädchen an den Ball
LOCATION:Isenstedter Str. 77\, 32339 Espelkamp
DESCRIPTION:In der Espelkamper Rundturnhalle dreht sich am Samstag, 8.November, alles u
 m den Mädchenfußball. Unter dem Motto „Fair Play für alle“laden der ISC Ise
 nstedt, die Stadt Espelkamp und das Bundesprogramm Demo-kratie leben!“ zu e
 inem Aktionstag für Vielfalt und Toleranz im Sport ein. Von 10 bis 12 Uhr f
 indet ein Training statt, das von engagierten Mitgliedern des ISC Isenstedt
  gestaltet wird.\nAb 14 Uhr startet ein Turnier mit Mannschaften aus der Um
 gebung. Ziel des Aktionstags ist es, Mädchen für den Fußball zu begeistern 
 und\nden Teamgeist über Vereins -und Stadtgrenzen hinweg zu fördern. „Mädch
 enfußball hat ein enormes Potenzial für Vereine“, sagt ISC-Vorsitzender Tho
 rsten Halwe. „Wir möchten zeigen, dass Fußball allen offensteht und Mädchen
  genauso engagiert und talentiert spielen wie Jungs. „Der Eintritt ist frei
 . Zuschauer sind herzlich eingeladen.\n
X-ALT-DESC;FMTTYPE=text/html:<p>In der Espelkamper Rundturnhalle dreht sich am Samstag, 8.November, alle
 s um den Mädchenfußball. Unter dem Motto „Fair Play für alle“laden der ISC 
 Isenstedt, die Stadt Espelkamp und das Bundesprogramm Demo-kratie leben!“ z
 u einem Aktionstag für Vielfalt und Toleranz im Sport ein. Von 10 bis 12 Uh
 r findet ein Training statt, das von engagierten Mitgliedern des ISC Isenst
 edt gestaltet wird.<br />Ab 14 Uhr startet ein Turnier mit Mannschaften aus
  der Umgebung. Ziel des Aktionstags ist es, Mädchen für den Fußball zu bege
 istern und<br />den Teamgeist über Vereins -und Stadtgrenzen hinweg zu förd
 ern. „Mädchenfußball hat ein enormes Potenzial für Vereine“, sagt ISC-Vorsi
 tzender Thorsten Halwe. „Wir möchten zeigen, dass Fußball allen offensteht 
 und Mädchen genauso engagiert und talentiert spielen wie Jungs. „Der Eintri
 tt ist frei. Zuschauer sind herzlich eingeladen.</p>
DTSTAMP:20260422T104204Z
DTSTART:20251108T130000Z
SEQUENCE:0
TRANSP:OPAQUE
END:VEVENT
END:VCALENDAR