BEGIN:VCALENDAR
VERSION:2.0
PRODID:-//jEvents 2.0 for Joomla//EN
CALSCALE:GREGORIAN
METHOD:PUBLISH
BEGIN:VEVENT
UID:50a7f0b868e4abafa672bb1b5b741018
CATEGORIES:Veranstaltung
CREATED:20250909T211015
SUMMARY:Gottesdienst Christuskirche Gemeindeversammlung.
LOCATION:Kirchstraße 33 32339 Espelkamp
DESCRIPTION:<p>Das Presbyterium Am Sonntag, den 22.09.2024, ist nach dem Gottesdienst, 
 unsere Gemeindeversammlung. Hiermit laden wir Sie/ Euch herzlich ein. Das P
 resbyterium</p>
DTSTAMP:20260421T000130Z
DTSTART:20250920T083000Z
SEQUENCE:0
TRANSP:OPAQUE
END:VEVENT
END:VCALENDAR