BEGIN:VCALENDAR
VERSION:2.0
PRODID:-//jEvents 2.0 for Joomla//EN
CALSCALE:GREGORIAN
METHOD:PUBLISH
BEGIN:VEVENT
UID:61cd3b77918fd9ced6cdc2bdbbeff3ab
CATEGORIES:Veranstaltung
CREATED:20250909T205435
SUMMARY:Jahreshauptversammlung Kirchenbauförderverein Isenstedt – Frotheim
LOCATION:Kirchstraße 33a 32339 Espelkamp
DESCRIPTION:Begrüßung, Bericht des Vorsitzenden, Bericht des Kassenwahrtes, Wahlen, Aus
 blick\n
X-ALT-DESC;FMTTYPE=text/html:<p>Begrüßung, Bericht des Vorsitzenden, Bericht des Kassenwahrtes, Wahlen, 
 Ausblick</p>
DTSTAMP:20260425T135706Z
DTSTART:20250919T170000Z
SEQUENCE:0
TRANSP:OPAQUE
END:VEVENT
END:VCALENDAR