BEGIN:VCALENDAR
VERSION:2.0
PRODID:-//jEvents 2.0 for Joomla//EN
CALSCALE:GREGORIAN
METHOD:PUBLISH
BEGIN:VEVENT
UID:e2f344aa4d588a4d668c61d81d3b0775
CATEGORIES:Veranstaltung
CREATED:20250729T143601
SUMMARY:Hoffnungsfistval
LOCATION:Kirchstr. 33\, 32339 Espelkamp
DESCRIPTION:<p>18:30 UHR ZUVERSICHTLICH LEBEN</p>
DTSTAMP:20260420T221657Z
DTSTART:20250825T163000Z
SEQUENCE:0
TRANSP:OPAQUE
END:VEVENT
END:VCALENDAR