BEGIN:VCALENDAR
VERSION:2.0
PRODID:-//jEvents 2.0 for Joomla//EN
CALSCALE:GREGORIAN
METHOD:PUBLISH
BEGIN:VEVENT
UID:805d636496d0de3cb27a166a0d560644
CATEGORIES:Veranstaltung
CREATED:20250729T143001
SUMMARY:Hoffnungsfistval
LOCATION:Kösterstraße 8\, 32339 Espelkamp
DESCRIPTION:FOKUSSIERT LEBEN Wofür es sich zu leben lohnt\n
X-ALT-DESC;FMTTYPE=text/html:<p>FOKUSSIERT LEBEN Wofür es sich zu leben lohnt</p>
DTSTAMP:20260422T121150Z
DTSTART:20250826T163000Z
SEQUENCE:0
TRANSP:OPAQUE
END:VEVENT
END:VCALENDAR