BEGIN:VCALENDAR
VERSION:2.0
PRODID:-//jEvents 2.0 for Joomla//EN
CALSCALE:GREGORIAN
METHOD:PUBLISH
BEGIN:VEVENT
UID:bbef5d86b3edb8e9d71bd36f0fff4998
CATEGORIES:Veranstaltung
CREATED:20250729T140906
SUMMARY:Hoffnungsfistval
LOCATION:Kösterstraße 8\, 32339 Espelkamp
DESCRIPTION:<p>GOTTESDIENST um 10:30 Uhr IN DER KLUS – FROTHEIM</p><p>beim Dresch- und 
 Backtag</p>
DTSTAMP:20260420T221652Z
DTSTART:20250824T083000Z
SEQUENCE:0
TRANSP:OPAQUE
END:VEVENT
END:VCALENDAR