BEGIN:VCALENDAR
VERSION:2.0
PRODID:-//jEvents 2.0 for Joomla//EN
CALSCALE:GREGORIAN
METHOD:PUBLISH
BEGIN:VEVENT
UID:15f0821203ebab2a62d15c2ed3ce25b7
CATEGORIES:DEFAULT
CREATED:20250729T124839
SUMMARY:Hoffnungsfistval
LOCATION:Kösterstraße 8\, 32339 Espelkamp
DESCRIPTION:<p>ab 14:00 Uhr Gemeindefest</p><p>ab 18:30 Uhr Livestream</p>
DTSTAMP:20260419T130103Z
DTSTART:20250823T120000Z
SEQUENCE:0
TRANSP:OPAQUE
END:VEVENT
END:VCALENDAR