BEGIN:VCALENDAR
VERSION:2.0
PRODID:-//jEvents 2.0 for Joomla//EN
CALSCALE:GREGORIAN
METHOD:PUBLISH
BEGIN:VEVENT
UID:c4c88313e16ebf4eae18dfb5dbfe6672
CATEGORIES:Veranstaltung
CREATED:20250708T141252
SUMMARY:100 Jahre  Zucht-, Reit- u. Fahrverein Frotheim-Isenstedt
LOCATION:Stellerieger Str. 24 a 32339 Espelkamp
DESCRIPTION:100 Jahre Zucht-, Reit- u. Fahrverein Frotheim-Isenstedt\nStellerieger Str.
  24 a 32339 Espelkamp\nBunter Familientag ab Sonntag 13:30 Uhr\n
X-ALT-DESC;FMTTYPE=text/html:<p>100 Jahre Zucht-, Reit- u. Fahrverein Frotheim-Isenstedt</p><p>Stellerie
 ger Str. 24 a 32339 Espelkamp</p><p>Bunter Familientag ab Sonntag 13:30 Uhr
 </p>
DTSTAMP:20260420T103950Z
DTSTART;VALUE=DATE:20250711
DTEND;VALUE=DATE:20250714
SEQUENCE:0
TRANSP:OPAQUE
END:VEVENT
END:VCALENDAR