BEGIN:VCALENDAR
VERSION:2.0
PRODID:-//jEvents 2.0 for Joomla//EN
CALSCALE:GREGORIAN
METHOD:PUBLISH
BEGIN:VEVENT
UID:dc3b41c52b85eb681be4b63ad0e3dadc
CATEGORIES:Veranstaltung
CREATED:20250608T180246
SUMMARY:Sozialverband Isenstedt Tagesausflug
DESCRIPTION:
DTSTAMP:20260421T020050Z
DTSTART;VALUE=DATE:20250920
DTEND;VALUE=DATE:20250921
SEQUENCE:0
TRANSP:OPAQUE
END:VEVENT
END:VCALENDAR