BEGIN:VCALENDAR
VERSION:2.0
PRODID:-//jEvents 2.0 for Joomla//EN
CALSCALE:GREGORIAN
METHOD:PUBLISH
BEGIN:VEVENT
UID:a37a959f621c60a22938e0e6a266b416
CATEGORIES:Veranstaltung
CREATED:20250608T175913
SUMMARY:Sozialverband Isenstedt Grillfete
LOCATION:32339 Espelkamp Klappheckenstraße
DESCRIPTION:
DTSTAMP:20260423T134604Z
DTSTART:20250718T150000Z
SEQUENCE:0
TRANSP:OPAQUE
END:VEVENT
END:VCALENDAR