BEGIN:VCALENDAR
VERSION:2.0
PRODID:-//jEvents 2.0 for Joomla//EN
CALSCALE:GREGORIAN
METHOD:PUBLISH
BEGIN:VEVENT
UID:069c1c7a71a4c92215f8bbd55157cf4a
CATEGORIES:Veranstaltung
CREATED:20250331T090123
SUMMARY:Bläsergottesdienst
LOCATION:Kirchstr. 33A 32339 Espelkamp
DESCRIPTION:
DTSTAMP:20260419T183552Z
DTSTART:20250406T083000Z
SEQUENCE:0
TRANSP:OPAQUE
END:VEVENT
END:VCALENDAR