BEGIN:VCALENDAR
VERSION:2.0
PRODID:-//jEvents 2.0 for Joomla//EN
CALSCALE:GREGORIAN
METHOD:PUBLISH
BEGIN:VEVENT
UID:2a707c9a5c4104224a1e15496046a8e9
CATEGORIES:Veranstaltung
CREATED:20250216T163833
SUMMARY:Heimatverein Isenstedt Beginn der monatlichen Radfahrten 
LOCATION:Grundschule Isenstedt Neue Schulstr. 6 32339 Espelkamp
DESCRIPTION:<p>Beginn der monatlichen Radfahrten von April bis September, gefahren wird
  jeden 3. Mittwoch im Monat. Start ist um 17 Uhr an der Grundschule Isenste
 dt Neue Schulstr. 6 32339 Espelkamp</p>
DTSTAMP:20260419T130103Z
DTSTART:20250416T150000Z
SEQUENCE:0
TRANSP:OPAQUE
END:VEVENT
END:VCALENDAR