BEGIN:VCALENDAR
VERSION:2.0
PRODID:-//jEvents 2.0 for Joomla//EN
CALSCALE:GREGORIAN
METHOD:PUBLISH
BEGIN:VEVENT
UID:6a8ca997ae5c8c6f37c168af0051be33
CATEGORIES:Veranstaltung
CREATED:20250212T215823
SUMMARY:Isenstedter Sport- Club 
LOCATION:Kaiser Dorfkrug Neue Schulstraße 10 32339 Espelkamp
DESCRIPTION:<p>Auf dem Programm steht der Rückblick auf das Jahr 2024, Vorstandswahlen 
 und die Ehrung langjähriger Mitglieder.</p>
DTSTAMP:20260419T124917Z
DTSTART:20250228T183000Z
SEQUENCE:0
TRANSP:OPAQUE
END:VEVENT
END:VCALENDAR