BEGIN:VCALENDAR
VERSION:2.0
PRODID:-//jEvents 2.0 for Joomla//EN
CALSCALE:GREGORIAN
METHOD:PUBLISH
BEGIN:VEVENT
UID:9a25b9cf1dc2ac9a8aa2496b8dc95f1c
CATEGORIES:Veranstaltung
CREATED:20250206T214800
SUMMARY:privaten Hobbykreativmarkt & Flohmarkt
LOCATION:Stellerieger Str. 24a 32339 Espelkamp 
DESCRIPTION:Indra Pott Tel. 0151/70159029 Nur per WhatsApp Ihr seid herzlich eingeladen
  zu unserem privaten Hobbykreativmarkt&amp; Flohmarkt in der Reithalle Frot
 heim-Isenstedt. Euch erwartet Trödel für Erwachsene und Kinder sowie viele 
 liebevollhandgemachte Dinge aus Holz, Keramik, Raysin, Genähtes und Gehäkel
 tes, Makramee und Filzarbeiten, Pflanzen und vieles mehr. Zudem gibt es Kaf
 fee und ein großes Kuchenbuffet (auch zum Mitnehmen ), Bratwurst im Brötche
 n sowie Ponyreiten. Wir freuen uns auf euch.\n
X-ALT-DESC;FMTTYPE=text/html:<p>Indra Pott Tel. 0151/70159029 Nur per WhatsApp Ihr seid herzlich eingela
 den zu unserem privaten Hobbykreativmarkt&amp; Flohmarkt in der Reithalle F
 rotheim-Isenstedt. Euch erwartet Trödel für Erwachsene und Kinder sowie vie
 le liebevollhandgemachte Dinge aus Holz, Keramik, Raysin, Genähtes und Gehä
 keltes, Makramee und Filzarbeiten, Pflanzen und vieles mehr. Zudem gibt es 
 Kaffee und ein großes Kuchenbuffet (auch zum Mitnehmen ), Bratwurst im Bröt
 chen sowie Ponyreiten. Wir freuen uns auf euch.</p>
CONTACT:Indra Pott Tel. 0151/70159029 Nur per WhatsApp
X-EXTRAINFO:\nWETTERUNABHÄNGIG IN DER REITHALLE\n
DTSTAMP:20260421T120618Z
DTSTART:20250405T100000Z
DTEND:20250405T140000Z
SEQUENCE:0
TRANSP:OPAQUE
END:VEVENT
END:VCALENDAR