BEGIN:VCALENDAR
VERSION:2.0
PRODID:-//jEvents 2.0 for Joomla//EN
CALSCALE:GREGORIAN
METHOD:PUBLISH
BEGIN:VEVENT
UID:33256390b9452c9fc40a920188d60195
CATEGORIES:Kultur
CREATED:20241102T231608
SUMMARY:Konzert mit dem Shanty Chor Bünde 
LOCATION:Kirchstraße 31   32339 Espelkamp\, 
DESCRIPTION:Heimatverein Isenstedt\nKonzert mit dem Shanty Chor Bünde in der Christus K
 irche Isenstedt Kirchstraße 31, 32339 Espelkamp,\n
X-ALT-DESC;FMTTYPE=text/html:<p>Heimatverein Isenstedt</p><p>Konzert mit dem Shanty Chor Bünde in der Ch
 ristus Kirche Isenstedt Kirchstraße 31, 32339 Espelkamp,</p>
DTSTAMP:20260421T153538Z
DTSTART:20241129T180000Z
SEQUENCE:0
TRANSP:OPAQUE
END:VEVENT
END:VCALENDAR