BEGIN:VCALENDAR
VERSION:2.0
PRODID:-//jEvents 2.0 for Joomla//EN
CALSCALE:GREGORIAN
METHOD:PUBLISH
BEGIN:VEVENT
UID:dc986b3ee945378c8a20163a729aae8b
CATEGORIES:Veranstaltung
CREATED:20240522T191803
SUMMARY:Tag der Ortschaften
LOCATION:Wilhelm-Kern-Platz
DESCRIPTION:       Normal  0      21      false  false  false    DE  X-NONE  X-NONE    
                                                                            
                                                                            
                                                                            
                                                                            
                                                                            
                                                                            
                                                                            
                                                                            
                                                                            
                                                                            
                                                                      /* Sty
 le Definitions */ table.MsoNormalTable	{mso-style-name:"Normale Tabelle";	m
 so-tstyle-rowband-size:0;	mso-tstyle-colband-size:0;	mso-style-noshow:yes;	
 mso-style-priority:99;	mso-style-parent:"";	mso-padding-alt:0cm 5.4pt 0cm 5
 .4pt;	mso-para-margin-top:0cm;	mso-para-margin-right:0cm;	mso-para-margin-b
 ottom:8.0pt;	mso-para-margin-left:0cm;	line-height:107%;	mso-pagination:wid
 ow-orphan;	font-size:11.0pt;	font-family:"Calibri",sans-serif;	mso-ascii-fo
 nt-family:Calibri;	mso-ascii-theme-font:minor-latin;	mso-hansi-font-family:
 Calibri;	mso-hansi-theme-font:minor-latin;	mso-fareast-language:EN-US;}\nSa
 mstag, 15.06. I Wilhelm-Kern-Platz\n \nTag der Ortschaften:\n \n10 Ortsteil
 e - eine Stadt!\n \nGemeinsam die Vielfalt und Einzigartigkeit unserer Orts
 chaften feiern\n \n— 10 Espelkamper Ortsteile stellen sich vor. Es gibt vie
 le liebevoll gestaltete\n \nStände mit Tanz, Musik, Golf, Hüpfburgen, Filmv
 orführungen\n \nund Wettbewerben. Ein buntes Fest für Groß und Klein!\n \n
X-ALT-DESC;FMTTYPE=text/html:<p>       Normal  0      21      false  false  false    DE  X-NONE  X-NONE 
                                                                            
                                                                            
                                                                            
                                                                            
                                                                            
                                                                            
                                                                            
                                                                            
                                                                            
                                                                            
                                                                         /* 
 Style Definitions */ table.MsoNormalTable	{mso-style-name:"Normale Tabelle"
 ;	mso-tstyle-rowband-size:0;	mso-tstyle-colband-size:0;	mso-style-noshow:ye
 s;	mso-style-priority:99;	mso-style-parent:"";	mso-padding-alt:0cm 5.4pt 0c
 m 5.4pt;	mso-para-margin-top:0cm;	mso-para-margin-right:0cm;	mso-para-margi
 n-bottom:8.0pt;	mso-para-margin-left:0cm;	line-height:107%;	mso-pagination:
 widow-orphan;	font-size:11.0pt;	font-family:"Calibri",sans-serif;	mso-ascii
 -font-family:Calibri;	mso-ascii-theme-font:minor-latin;	mso-hansi-font-fami
 ly:Calibri;	mso-hansi-theme-font:minor-latin;	mso-fareast-language:EN-US;}<
 /p><p class="MsoNoSpacing">Samstag, 15.06. I Wilhelm-Kern-Platz</p><p> </p>
 <p class="MsoNoSpacing"><b>Tag der Ortschaften:</b></p><p> </p><p class="Ms
 oNoSpacing"><b>10 Ortsteile - eine Stadt!</b></p><p> </p><p class="MsoNoSpa
 cing">Gemeinsam die Vielfalt und Einzigartigkeit unserer Ortschaften feiern
 </p><p> </p><p class="MsoNoSpacing">— 10 Espelkamper Ortsteile stellen sich
  vor. Es gibt viele liebevoll gestaltete</p><p> </p><p class="MsoNoSpacing"
 >Stände mit Tanz, Musik, Golf, Hüpfburgen, Filmvorführungen</p><p> </p><p c
 lass="MsoNoSpacing">und Wettbewerben. Ein buntes Fest für Groß und Klein!</
 p><p> </p>
DTSTAMP:20260423T154240Z
DTSTART;VALUE=DATE:20240615
DTEND;VALUE=DATE:20240616
SEQUENCE:0
TRANSP:OPAQUE
END:VEVENT
END:VCALENDAR