BEGIN:VCALENDAR
VERSION:2.0
PRODID:-//jEvents 2.0 for Joomla//EN
CALSCALE:GREGORIAN
METHOD:PUBLISH
BEGIN:VEVENT
UID:60bbece421c59a7482453490e9c53063
CATEGORIES:Veranstaltung
CREATED:20240504T215618
SUMMARY:Frühlingskonzert der Chorgemeinschaft Isenstedt
LOCATION:Kaiser Dorfkrug GmbH &amp; Co. KG Neue Schulstraße 10 32339 Espelkamp-Isens
 tedt
DESCRIPTION:<p class="MsoNormal">Frühlingskonzert der Chorgemeinschaft Isenstedt am 05.
 05. um 15:00 im Saal Kaiser Dorfkrug. Auch um 141. Geburtstag gibt es Kaffe
 e und Kuchen.</p><p> </p>
DTSTAMP:20260421T113809Z
DTSTART:20240505T130000Z
SEQUENCE:0
TRANSP:OPAQUE
END:VEVENT
END:VCALENDAR