BEGIN:VCALENDAR
VERSION:2.0
PRODID:-//jEvents 2.0 for Joomla//EN
CALSCALE:GREGORIAN
METHOD:PUBLISH
BEGIN:VEVENT
UID:f8c50594be6b51ee51a0d6f48bfab8a3
CATEGORIES:Veranstaltung
CREATED:20240307T182637
SUMMARY:Der Sportplatz brennt. 
LOCATION:Neue Schulstraße 6 32339 Espelkamp 
DESCRIPTION:Der Sportplatz brennt. Der ISC lädt ein zu Stockbrot und Ostereiersuche. Ka
 rsamstag 30 März 2024 um 17:30 Neue Schulstraße 6. Für Essen und Trinken is
 t gesorgt.\n
X-ALT-DESC;FMTTYPE=text/html:<p>Der Sportplatz brennt. Der ISC lädt ein zu Stockbrot und Ostereiersuche.
  Karsamstag 30 März 2024 um 17:30 Neue Schulstraße 6. Für Essen und Trinken
  ist gesorgt.</p>
DTSTAMP:20260423T134713Z
DTSTART:20240330T163000Z
SEQUENCE:0
TRANSP:OPAQUE
END:VEVENT
END:VCALENDAR