BEGIN:VCALENDAR
VERSION:2.0
PRODID:-//jEvents 2.0 for Joomla//EN
CALSCALE:GREGORIAN
METHOD:PUBLISH
BEGIN:VEVENT
UID:baaafd516759bf305ec73adad5bcb752
CATEGORIES:Veranstaltung
CREATED:20240222T171547
SUMMARY:Mitgliederhauptversammlung Dorfgemeinschaft Isenstedt 2024
LOCATION:Neue Schulstraße 10 32339 Espelkamp-Isenstedt
DESCRIPTION:Donnerstag,18.04.2024 um 19 Uhr 30 Mitgliederhauptversammlung Dorfgemeinsch
 aft Isenstedt 2024 bei Dorfkrug Kaiser Neue Schulstraße 10 32339 Espelkamp-
 Isenstedt\n
X-ALT-DESC;FMTTYPE=text/html:<p>Donnerstag,18.04.2024 um 19 Uhr 30 Mitgliederhauptversammlung Dorfgemein
 schaft Isenstedt 2024 bei Dorfkrug Kaiser Neue Schulstraße 10 32339 Espelka
 mp-Isenstedt</p>
DTSTAMP:20260423T103134Z
DTSTART:20240418T173000Z
SEQUENCE:0
TRANSP:OPAQUE
END:VEVENT
END:VCALENDAR