BEGIN:VCALENDAR
VERSION:2.0
PRODID:-//jEvents 2.0 for Joomla//EN
CALSCALE:GREGORIAN
METHOD:PUBLISH
BEGIN:VEVENT
UID:9017df9101605e4a8fb732fb33d8246a
CATEGORIES:Veranstaltung
CREATED:20231211T181907
SUMMARY:Dorfpokalschießen Dorfgemeinschaft Isenstedt. 
LOCATION:Kaiser Dorfkrug  Neue Schulstraße 10 32339 Espelkamp-Isenstedt
DESCRIPTION: \nSamstag, den 01.06.2024, Beginn 14:00, ab 13:30 Registrierung der Mannsc
 haften.\nKaiser Dorfkrug\nNeue Schulstraße 10 32339 Espelkamp-Isenstedt.\nW
 ie auf der der Mitgliederversammlung der Dorfgemeinschaft Isenstedt am 20.0
 4.2023 einstimmig beschlossen, fester Termin für das Pokalschießen1. Samsta
 g im Juni.\n
X-ALT-DESC;FMTTYPE=text/html:<p> </p><p>Samstag, den 01.06.2024, Beginn 14:00, ab 13:30 Registrierung de
 r Mannschaften.</p><p>Kaiser Dorfkrug</p><p>Neue Schulstraße 10 32339 Espel
 kamp-Isenstedt.</p><p>Wie auf der der Mitgliederversammlung der Dorfgemeins
 chaft Isenstedt am 20.04.2023 einstimmig beschlossen, fester Termin für das
  Pokalschießen1. Samstag im Juni.</p>
DTSTAMP:20260423T194349Z
DTSTART:20240601T120000Z
SEQUENCE:0
TRANSP:OPAQUE
END:VEVENT
END:VCALENDAR