BEGIN:VCALENDAR
VERSION:2.0
PRODID:-//jEvents 2.0 for Joomla//EN
CALSCALE:GREGORIAN
METHOD:PUBLISH
BEGIN:VEVENT
UID:99480c5f92528f1b9078a6c82a73dbba
CATEGORIES:Veranstaltung
CREATED:20231211T175907
SUMMARY:Zweite Besprechung Weihnachtsmarkt 2024
LOCATION:Kaiser Dorfkrug  Neue Schulstraße 10 32339 Espelkamp-Isenstedt
DESCRIPTION:Zweite Besprechung Weihnachtsmarkt 2024\nDonnerstag: 31.10.2024 19:30 Uhr\n
 Kaiser Dorfkrug Neue Schulstraße 10\n32339 Espelkamp-Isenstedt\n
X-ALT-DESC;FMTTYPE=text/html:<p>Zweite Besprechung Weihnachtsmarkt 2024</p><p>Donnerstag: 31.10.2024 19:
 30 Uhr</p><p>Kaiser Dorfkrug Neue Schulstraße 10</p><p>32339 Espelkamp-Isen
 stedt</p>
DTSTAMP:20260423T102230Z
DTSTART:20241031T183000Z
SEQUENCE:0
TRANSP:OPAQUE
END:VEVENT
END:VCALENDAR