BEGIN:VCALENDAR
VERSION:2.0
PRODID:-//jEvents 2.0 for Joomla//EN
CALSCALE:GREGORIAN
METHOD:PUBLISH
BEGIN:VEVENT
UID:11aebcb4ce5d7ee49496ecccd3044fb0
CATEGORIES:Veranstaltung
CREATED:20231211T175412
SUMMARY:Erste Besprechung Weihnachtsmarkt 2024 
LOCATION:Kaiser Dorfkrug Neue Schulstraße 10  32339 Espelkamp-Isenstedt
DESCRIPTION:<p>Erste Besprechung Weihnachtsmarkt 2024</p><p>Donnerstag: 19.09.2024 19:3
 0Uhr</p><p>Kaiser Dorfkrug Neue Schulstraße 10</p><p>32339 Espelkamp-Isenst
 edt</p>
DTSTAMP:20260421T124839Z
DTSTART:20240919T173000Z
SEQUENCE:0
TRANSP:OPAQUE
END:VEVENT
END:VCALENDAR