BEGIN:VCALENDAR
VERSION:2.0
PRODID:-//jEvents 2.0 for Joomla//EN
CALSCALE:GREGORIAN
METHOD:PUBLISH
BEGIN:VEVENT
UID:a21b3cb2f463646b240b946f2d5052d6
CATEGORIES:Veranstaltung
CREATED:20260319T170546
SUMMARY:CVJM Isenstedt-Frotheim Die Jahreshauptversammlung 
LOCATION:Gemeindehausstraße 1 32339 Espelkamp. I
DESCRIPTION:CVJM Isenstedt-Frotheim tagt Espelkamp. Die Jahreshauptversammlung des CVJM
  Isenstedt-Frotheim findet am Freitag, 20. März, im CVJM-Haus in Frotheim s
 tatt. Eingeladen sind alle Mitglieder und Freunde des Vereins. Beginn ist u
 m 19 Uhr. Auf der Tagesordnung stehen unter anderem Wahlen, Rück- und Ausbl
 icke auf die Aktivitäten des vergangenen und dieses Jahres sowie Ehrungen l
 angjähriger Mitglieder.\n
X-ALT-DESC;FMTTYPE=text/html:<p>CVJM Isenstedt-Frotheim tagt Espelkamp. Die Jahreshauptversammlung des C
 VJM Isenstedt-Frotheim findet am Freitag, 20. März, im CVJM-Haus in Frothei
 m statt. Eingeladen sind alle Mitglieder und Freunde des Vereins. Beginn is
 t um 19 Uhr. Auf der Tagesordnung stehen unter anderem Wahlen, Rück- und Au
 sblicke auf die Aktivitäten des vergangenen und dieses Jahres sowie Ehrunge
 n langjähriger Mitglieder.</p>
DTSTAMP:20260423T091746Z
DTSTART:20260320T180000Z
SEQUENCE:0
TRANSP:OPAQUE
END:VEVENT
END:VCALENDAR