BEGIN:VCALENDAR
VERSION:2.0
PRODID:-//jEvents 2.0 for Joomla//EN
CALSCALE:GREGORIAN
METHOD:PUBLISH
BEGIN:VEVENT
UID:934be23d05a19113514e5d2d7c658639
CATEGORIES:Veranstaltung
CREATED:20250729T142605
SUMMARY:Hoffnungsfistval
LOCATION:Kirchstr. 33\, 32339 Espelkamp
DESCRIPTION:<p>ABEND-SESSION_04 • MO 18:30 UHR ZUVERSICHTLICH LEBEN</p>
DTSTAMP:20260423T130516Z
DTSTART:20240826T163000Z
SEQUENCE:0
TRANSP:OPAQUE
END:VEVENT
END:VCALENDAR