BEGIN:VCALENDAR
VERSION:2.0
PRODID:-//jEvents 2.0 for Joomla//EN
CALSCALE:GREGORIAN
METHOD:PUBLISH
BEGIN:VEVENT
UID:2b082fed9ba60af7eaa3be60261cef71
CATEGORIES:Veranstaltung
CREATED:20250319T154944
SUMMARY:Heimatverein Isenstedt Historischer Gesprächskreis
LOCATION:Isenstedt
DESCRIPTION:Der Heimatverein Isenstedt lädt ein zum 1. Historischen Gespräch\nWann: Mon
 tag 07.04.2025\nWo: Schule Isenstedt Bühneneingang Nordseite\nDauer: 18.00 
 Uhr bis 20:00 Uhr\nHöchstteilnehmerzahl: 25\n \nAnmeldungen bei : Andreas B
 rinkmann Tel. 01758893304\n \n                           und : Reinhard Eng
 elage Tel. 01719129690\n \noder: Diese E-Mail-Adresse ist vor Spambots gesc
 hützt! Zur Anzeige muss JavaScript eingeschaltet sein!
				document.getElem
 entById('cloak79135f8744953f9879a610a135a5b020').innerHTML = '';
				var pr
 efix = 'ma' + 'il' + 'to';
				var path = 'hr' + 'ef' + '=';
				var addy79
 135f8744953f9879a610a135a5b020 = 'info' + '@';
				addy79135f8744953f9879a6
 10a135a5b020 = addy79135f8744953f9879a610a135a5b020 + 'heimatverein-isenste
 dt' + '.' + 'de';
				var addy_text79135f8744953f9879a610a135a5b020 = 'info
 ' + '@' + 'heimatverein-isenstedt' + '.' + 'de';document.getElementById('cl
 oak79135f8744953f9879a610a135a5b020').innerHTML += ''+addy_text79135f874495
 3f9879a610a135a5b020+'';
		 bis Donnerstag den 03.04.2025\n
 \n
 \n
weitere
  Info´s demnächst auf der Internetseite: www.heimatverein-isenstedt.de\n
 \
 n
 \n
 \n
 \n
 \n
X-ALT-DESC;FMTTYPE=text/html:<p>Der Heimatverein Isenstedt lädt ein zum 1. Historischen Gespräch</p><p>W
 ann: Montag 07.04.2025</p><p>Wo: Schule Isenstedt Bühneneingang Nordseite</
 p><p>Dauer: 18.00 Uhr bis 20:00 Uhr</p><p><span style="text-decoration: und
 erline;">Höchstteilnehmerzahl: 25</span></p><p> </p><p style="line-height: 
 108%; margin-bottom: 0.28cm;"><span style="font-size: small;">Anmeldungen b
 ei : Andreas Brinkmann Tel. 01758893304</span></p><p> </p><p style="line-he
 ight: 108%; margin-bottom: 0.28cm;">                           und : <span 
 style="font-size: small;">Reinhard Engelage Tel. 01719129690</span></p><p> 
 </p><p style="line-height: 108%; margin-bottom: 0.28cm;"><span style="font-
 size: small;">oder: </span><span style="color: #0563c1;"><u><span id="cloak
 79135f8744953f9879a610a135a5b020">Diese E-Mail-Adresse ist vor Spambots ges
 chützt! Zur Anzeige muss JavaScript eingeschaltet sein!</span><script type=
 'text/javascript'>
				document.getElementById('cloak79135f8744953f9879a610
 a135a5b020').innerHTML = '';
				var prefix = 'ma' + 'il' + 'to';
				var p
 ath = 'hr' + 'ef' + '=';
				var addy79135f8744953f9879a610a135a5b020 = 'in
 fo' + '@';
				addy79135f8744953f9879a610a135a5b020 = addy79135f8744953f987
 9a610a135a5b020 + 'heimatverein-isenstedt' + '.' + 'de';
				var addy_text7
 9135f8744953f9879a610a135a5b020 = '<span style="font-size: small;">info' + 
 '@' + 'heimatverein-isenstedt' + '.' + 'de</span>';document.getElementById(
 'cloak79135f8744953f9879a610a135a5b020').innerHTML += '<a ' + path + '\'' +
  prefix + ':' + addy79135f8744953f9879a610a135a5b020 + '\'>'+addy_text79135
 f8744953f9879a610a135a5b020+'<\/a>';
		</script></u></span> <span style="fo
 nt-size: small;"><u>bis Donnerstag den 03.04.2025</u></span></p><p style="l
 ine-height: 108%; margin-bottom: 0.28cm;"> </p><p style="line-height: 108%;
  margin-bottom: 0.28cm;"> </p><p style="line-height: 108%; margin-bottom: 0
 .28cm;"><span style="font-size: medium;">weitere Info´s demnächst auf der I
 nternetseite: www.heimatverein-isenstedt.de</span></p><p> </p><p style="lin
 e-height: 108%; margin-bottom: 0.28cm;"> </p><p> </p><p> </p><p> </p>
CONTACT:Diese E-Mail-Adresse ist vor Spambots geschützt! Zur Anzeige muss JavaScript eingeschaltet sein!
				document.getElementById('cloakb47a7ff9d147a82d447135ae119e7c98').innerHTML = '';
				var prefix = '&#109;a' + 'i&#108;' + '&#116;o';
				var path = 'hr' + 'ef' + '=';
				var addyb47a7ff9d147a82d447135ae119e7c98 = '&#105;nf&#111;' + '&#64;';
				addyb47a7ff9d147a82d447135ae119e7c98 = addyb47a7ff9d147a82d447135ae119e7c98 + 'h&#101;&#105;m&#97;tv&#101;r&#101;&#105;n-&#105;s&#101;nst&#101;dt' + '&#46;' + 'd&#101;';
				var addy_textb47a7ff9d147a82d447135ae119e7c98 = '&#105;nf&#111;' + '&#64;' + 'h&#101;&#105;m&#97;tv&#101;r&#101;&#105;n-&#105;s&#101;nst&#101;dt' + '&#46;' + 'd&#101;';document.getElementById('cloakb47a7ff9d147a82d447135ae119e7c98').innerHTML += '<a ' + path + '\'' + prefix + ':' + addyb47a7ff9d147a82d447135ae119e7c98 + '\'>'+addy_textb47a7ff9d147a82d447135ae119e7c98+'';
		
DTSTAMP:20260423T111708Z
DTSTART:20250407T160000Z
DTEND:20250407T180000Z
SEQUENCE:0
TRANSP:OPAQUE
END:VEVENT
END:VCALENDAR