BEGIN:VCALENDAR
VERSION:2.0
PRODID:-//jEvents 2.0 for Joomla//EN
CALSCALE:GREGORIAN
METHOD:PUBLISH
BEGIN:VEVENT
UID:d4b72581d95be3ba9d9daf058d6e56ca
CATEGORIES:DEFAULT
CREATED:20240222T171212
SUMMARY:Tag der Sauberkeit
DESCRIPTION:Samstag, 23.03.024 Tag der Sauberkeit. Die Teilnehmer in Isenstedt\ntreffen
  sich um 9 Uhr am Feuerwehrgerätehaus Neuen Schulstraße 11.\nEinen gemeinsa
 men Imbiss und Erfrischungsgetränke gibt es um 12 Uhr\nan der Grundschule F
 rotheim.\n
X-ALT-DESC;FMTTYPE=text/html:<p>Samstag, 23.03.024 Tag der Sauberkeit. Die Teilnehmer in Isenstedt<br />
 treffen sich um 9 Uhr am Feuerwehrgerätehaus Neuen Schulstraße 11.<br />Ein
 en gemeinsamen Imbiss und Erfrischungsgetränke gibt es um 12 Uhr<br />an de
 r Grundschule Frotheim.</p>
DTSTAMP:20260423T130248Z
DTSTART:20240323T080000Z
SEQUENCE:0
TRANSP:OPAQUE
END:VEVENT
END:VCALENDAR