BEGIN:VCALENDAR
VERSION:2.0
PRODID:-//jEvents 2.0 for Joomla//EN
CALSCALE:GREGORIAN
METHOD:PUBLISH
BEGIN:VEVENT
UID:fb258872163a4657aea120548db4e5cb
CATEGORIES:Veranstaltung
CREATED:20260208T174155
SUMMARY:Weihnachtsmarkt 2026
LOCATION:Grundschule Isenstedt Neue Schulstr. 6 32339 Espelkamp
DESCRIPTION:
CONTACT:Dorfgemeinschaft Isenstedt
DTSTAMP:20260422T025323Z
DTSTART:20261205T133000Z
DTEND:20261205T160000Z
SEQUENCE:0
TRANSP:OPAQUE
END:VEVENT
END:VCALENDAR