BEGIN:VCALENDAR
VERSION:2.0
PRODID:-//jEvents 2.0 for Joomla//EN
CALSCALE:GREGORIAN
METHOD:PUBLISH
BEGIN:VEVENT
UID:5c217f6e7a52a1cffdd66cdb221e03b9
CATEGORIES:Veranstaltung
CREATED:20260208T173936
SUMMARY:2. Weihnachtsmarktbesprechung 2026
LOCATION:Kaiser Dorfkrug Neue Schulstraße 10 32339 Espelkamp
DESCRIPTION:
CONTACT:Dorfgemeinschaft Isenstedt
DTSTAMP:20260422T111857Z
DTSTART:20261029T183000Z
SEQUENCE:0
TRANSP:OPAQUE
END:VEVENT
END:VCALENDAR